BEGIN:VCALENDAR
VERSION:2.0
PRODID:-//Louisiana Automatic Fire Alarm Association - ECPv6.15.20//NONSGML v1.0//EN
CALSCALE:GREGORIAN
METHOD:PUBLISH
X-WR-CALNAME:Louisiana Automatic Fire Alarm Association
X-ORIGINAL-URL:https://laafaa.org
X-WR-CALDESC:Events for Louisiana Automatic Fire Alarm Association
REFRESH-INTERVAL;VALUE=DURATION:PT1H
X-Robots-Tag:noindex
X-PUBLISHED-TTL:PT1H
BEGIN:VTIMEZONE
TZID:America/Chicago
BEGIN:DAYLIGHT
TZOFFSETFROM:-0600
TZOFFSETTO:-0500
TZNAME:CDT
DTSTART:20250309T080000
END:DAYLIGHT
BEGIN:STANDARD
TZOFFSETFROM:-0500
TZOFFSETTO:-0600
TZNAME:CST
DTSTART:20251102T070000
END:STANDARD
BEGIN:DAYLIGHT
TZOFFSETFROM:-0600
TZOFFSETTO:-0500
TZNAME:CDT
DTSTART:20260308T080000
END:DAYLIGHT
BEGIN:STANDARD
TZOFFSETFROM:-0500
TZOFFSETTO:-0600
TZNAME:CST
DTSTART:20261101T070000
END:STANDARD
BEGIN:DAYLIGHT
TZOFFSETFROM:-0600
TZOFFSETTO:-0500
TZNAME:CDT
DTSTART:20270314T080000
END:DAYLIGHT
BEGIN:STANDARD
TZOFFSETFROM:-0500
TZOFFSETTO:-0600
TZNAME:CST
DTSTART:20271107T070000
END:STANDARD
BEGIN:DAYLIGHT
TZOFFSETFROM:-0600
TZOFFSETTO:-0500
TZNAME:CDT
DTSTART:20280312T080000
END:DAYLIGHT
BEGIN:STANDARD
TZOFFSETFROM:-0500
TZOFFSETTO:-0600
TZNAME:CST
DTSTART:20281105T070000
END:STANDARD
END:VTIMEZONE
BEGIN:VEVENT
DTSTART;TZID=America/Chicago:20260619T080000
DTEND;TZID=America/Chicago:20260619T170000
DTSTAMP:20260423T065624
CREATED:20251001T195848Z
LAST-MODIFIED:20251001T195848Z
UID:7428-1781856000-1781888400@laafaa.org
SUMMARY:LAAFAA Summer Association Meeting June 19\, 2026
DESCRIPTION:Please enable JavaScript in your browser to complete this form.PLEASE SELECT MEETING YOU WISH TO REGISTER FOR USING DROP BOX BELOW *Please Select Meeting Option Here2026 Summer Meeting Lafayette\, June 19\, 20262026 Fall Meeting Baton Rouge September 18\, 20262027 Winter Meeting Baton Rouge January 22\, 20272027 Spring Meeting Baton Rouge March 26. 2027Please select ONLY ONEMeeting Registration Bill To Person  *FirstLastMeeting Registration Bill To Person Address: *Address Line 1City--- Select state ---AlabamaAlaskaArizonaArkansasCaliforniaColoradoConnecticutDelawareDistrict of ColumbiaFloridaGeorgiaHawaiiIdahoIllinoisIndianaIowaKansasKentuckyLouisianaMaineMarylandMassachusettsMichiganMinnesotaMississippiMissouriMontanaNebraskaNevadaNew HampshireNew JerseyNew MexicoNew YorkNorth CarolinaNorth DakotaOhioOklahomaOregonPennsylvaniaRhode IslandSouth CarolinaSouth DakotaTennesseeTexasUtahVermontVirginiaWashingtonWest VirginiaWisconsinWyomingStateZip CodePhone Number of Registering Person *Email Address for Meeting Registration and Credit Card Payment Receipt *EmailConfirm EmailDate / Time of Registration *DateTimeRegistering for: *Association Meeting as a Member (Enter Member Number Below)Association Meeting as a Non MemberEnter Company or Individual Membership Name Here    (NON MEMBER  TYPE NON MEMBER) If you are an AHJ Enter name of your Organization  *Primary Registrant SELECT Dropbox below to choose Member $45 / Non Member $55 for  First Attendee then choose Qty  *PLEASE SELECT ONE - $0.00Member - $45.00Non Member - $55.00012345678910Additional Attendees (choose Type then QTY using the dropdown buttons below)    (Member $25 / Non Member $35) Once Qty is filled Enter Attendees in boxes belowPLEASE SELECT ONE - $0.00Member Each Additonal - $25.00Non Member Each Additional - $35.000123456789BOARD MEMBER / AHJ    SELECT DROP DOWN HERE PLEASE SELECT ONEBoard memberAHJ01234Primary Registrant  *FirstLastAdditonal Attendee #1FirstLastAdditional Attendee #2FirstLastAdditional Attendee #3FirstLastAdditional Attendee #4FirstLastAdditional Attendee #5FirstLastAdditional Attendee #6FirstLastAdditional Attendee #7FirstLastAdditional Attendee #8FirstLastAdditional Attendee #9FirstLastTotal\n	\n		Order Summary\n		\n			\n				Item\n				\n					Quantity\n					Qty\n				\n				Total\n			\n		\n		\n			\n				There are no products selected.\n			\n			Primary Registrant SELECT Dropbox below to choose Member $45 / Non Member $55 for  First Attendee then choose Qty  - PLEASE SELECT ONE0$0.00Primary Registrant SELECT Dropbox below to choose Member $45 / Non Member $55 for  First Attendee then choose Qty  - Member0$0.00Primary Registrant SELECT Dropbox below to choose Member $45 / Non Member $55 for  First Attendee then choose Qty  - Non Member0$0.00Additional Attendees (choose Type then QTY using the dropdown buttons below)    (Member $25 / Non Member $35) Once Qty is filled Enter Attendees in boxes below - PLEASE SELECT ONE0$0.00Additional Attendees (choose Type then QTY using the dropdown buttons below)    (Member $25 / Non Member $35) Once Qty is filled Enter Attendees in boxes below - Member Each Additonal0$0.00Additional Attendees (choose Type then QTY using the dropdown buttons below)    (Member $25 / Non Member $35) Once Qty is filled Enter Attendees in boxes below - Non Member Each Additional0$0.00BOARD MEMBER / AHJ    SELECT DROP DOWN HERE  - PLEASE SELECT ONE0$0.00BOARD MEMBER / AHJ    SELECT DROP DOWN HERE  - Board member0$0.00BOARD MEMBER / AHJ    SELECT DROP DOWN HERE  - AHJ0$0.00Total$0.00		\n	\n\n$0.00Process Payment Here!      Where Amount is Zero You Will Not be Charged! *CardName on CardComments or QuestionsSubmit
URL:https://laafaa.org/event/laafaa-summer-association-meeting-june-19-2026/
LOCATION:Petroleum Club\, 111 Heymann Blvd\, Lafayette\, LA\, 70503\, United States
ORGANIZER;CN="Louisiana Automatic Fire Alarm Association":MAILTO:president@laafaa.org
END:VEVENT
BEGIN:VEVENT
DTSTART;TZID=America/Chicago:20260918T000000
DTEND;TZID=America/Chicago:20260918T000000
DTSTAMP:20260423T065624
CREATED:20251001T200206Z
LAST-MODIFIED:20251001T201159Z
UID:7430-1789689600-1789689600@laafaa.org
SUMMARY:LAAFAA Fall Association Meeting September 18\, 2026
DESCRIPTION:Please enable JavaScript in your browser to complete this form.PLEASE SELECT MEETING YOU WISH TO REGISTER FOR USING DROP BOX BELOW *Please Select Meeting Option Here2026 Summer Meeting Lafayette\, June 19\, 20262026 Fall Meeting Baton Rouge September 18\, 20262027 Winter Meeting Baton Rouge January 22\, 20272027 Spring Meeting Baton Rouge March 26. 2027Please select ONLY ONEMeeting Registration Bill To Person  *FirstLastMeeting Registration Bill To Person Address: *Address Line 1City--- Select state ---AlabamaAlaskaArizonaArkansasCaliforniaColoradoConnecticutDelawareDistrict of ColumbiaFloridaGeorgiaHawaiiIdahoIllinoisIndianaIowaKansasKentuckyLouisianaMaineMarylandMassachusettsMichiganMinnesotaMississippiMissouriMontanaNebraskaNevadaNew HampshireNew JerseyNew MexicoNew YorkNorth CarolinaNorth DakotaOhioOklahomaOregonPennsylvaniaRhode IslandSouth CarolinaSouth DakotaTennesseeTexasUtahVermontVirginiaWashingtonWest VirginiaWisconsinWyomingStateZip CodePhone Number of Registering Person *Email Address for Meeting Registration and Credit Card Payment Receipt *EmailConfirm EmailDate / Time of Registration *DateTimeRegistering for: *Association Meeting as a Member (Enter Member Number Below)Association Meeting as a Non MemberEnter Company or Individual Membership Name Here    (NON MEMBER  TYPE NON MEMBER) If you are an AHJ Enter name of your Organization  *Primary Registrant SELECT Dropbox below to choose Member $45 / Non Member $55 for  First Attendee then choose Qty  *PLEASE SELECT ONE - $0.00Member - $45.00Non Member - $55.00012345678910Additional Attendees (choose Type then QTY using the dropdown buttons below)    (Member $25 / Non Member $35) Once Qty is filled Enter Attendees in boxes belowPLEASE SELECT ONE - $0.00Member Each Additonal - $25.00Non Member Each Additional - $35.000123456789BOARD MEMBER / AHJ    SELECT DROP DOWN HERE PLEASE SELECT ONEBoard memberAHJ01234Primary Registrant  *FirstLastAdditonal Attendee #1FirstLastAdditional Attendee #2FirstLastAdditional Attendee #3FirstLastAdditional Attendee #4FirstLastAdditional Attendee #5FirstLastAdditional Attendee #6FirstLastAdditional Attendee #7FirstLastAdditional Attendee #8FirstLastAdditional Attendee #9FirstLastTotal\n	\n		Order Summary\n		\n			\n				Item\n				\n					Quantity\n					Qty\n				\n				Total\n			\n		\n		\n			\n				There are no products selected.\n			\n			Primary Registrant SELECT Dropbox below to choose Member $45 / Non Member $55 for  First Attendee then choose Qty  - PLEASE SELECT ONE0$0.00Primary Registrant SELECT Dropbox below to choose Member $45 / Non Member $55 for  First Attendee then choose Qty  - Member0$0.00Primary Registrant SELECT Dropbox below to choose Member $45 / Non Member $55 for  First Attendee then choose Qty  - Non Member0$0.00Additional Attendees (choose Type then QTY using the dropdown buttons below)    (Member $25 / Non Member $35) Once Qty is filled Enter Attendees in boxes below - PLEASE SELECT ONE0$0.00Additional Attendees (choose Type then QTY using the dropdown buttons below)    (Member $25 / Non Member $35) Once Qty is filled Enter Attendees in boxes below - Member Each Additonal0$0.00Additional Attendees (choose Type then QTY using the dropdown buttons below)    (Member $25 / Non Member $35) Once Qty is filled Enter Attendees in boxes below - Non Member Each Additional0$0.00BOARD MEMBER / AHJ    SELECT DROP DOWN HERE  - PLEASE SELECT ONE0$0.00BOARD MEMBER / AHJ    SELECT DROP DOWN HERE  - Board member0$0.00BOARD MEMBER / AHJ    SELECT DROP DOWN HERE  - AHJ0$0.00Total$0.00		\n	\n\n$0.00Process Payment Here!      Where Amount is Zero You Will Not be Charged! *CardName on CardComments or QuestionsSubmit
URL:https://laafaa.org/event/laafaa-fall-association-meeting-september-18-2026/
LOCATION:LASFM Office\, 8181 Independence Blvd\, Baton Rouge\, LA\, 70806\, United States
ORGANIZER;CN="Louisiana Automatic Fire Alarm Association":MAILTO:president@laafaa.org
END:VEVENT
BEGIN:VEVENT
DTSTART;TZID=America/Chicago:20270122T080000
DTEND;TZID=America/Chicago:20270122T170000
DTSTAMP:20260423T065624
CREATED:20260323T155444Z
LAST-MODIFIED:20260323T155838Z
UID:8285-1800604800-1800637200@laafaa.org
SUMMARY:LAAFAA 2027 Winter Meeting
DESCRIPTION:Please enable JavaScript in your browser to complete this form.PLEASE SELECT MEETING YOU WISH TO REGISTER FOR USING DROP BOX BELOW *Please Select Meeting Option Here2026 Summer Meeting Lafayette\, June 19\, 20262026 Fall Meeting Baton Rouge September 18\, 20262027 Winter Meeting Baton Rouge January 22\, 20272027 Spring Meeting Baton Rouge March 26. 2027Please select ONLY ONEMeeting Registration Bill To Person  *FirstLastMeeting Registration Bill To Person Address: *Address Line 1City--- Select state ---AlabamaAlaskaArizonaArkansasCaliforniaColoradoConnecticutDelawareDistrict of ColumbiaFloridaGeorgiaHawaiiIdahoIllinoisIndianaIowaKansasKentuckyLouisianaMaineMarylandMassachusettsMichiganMinnesotaMississippiMissouriMontanaNebraskaNevadaNew HampshireNew JerseyNew MexicoNew YorkNorth CarolinaNorth DakotaOhioOklahomaOregonPennsylvaniaRhode IslandSouth CarolinaSouth DakotaTennesseeTexasUtahVermontVirginiaWashingtonWest VirginiaWisconsinWyomingStateZip CodePhone Number of Registering Person *Email Address for Meeting Registration and Credit Card Payment Receipt *EmailConfirm EmailDate / Time of Registration *DateTimeRegistering for: *Association Meeting as a Member (Enter Member Number Below)Association Meeting as a Non MemberEnter Company or Individual Membership Name Here    (NON MEMBER  TYPE NON MEMBER) If you are an AHJ Enter name of your Organization  *Primary Registrant SELECT Dropbox below to choose Member $45 / Non Member $55 for  First Attendee then choose Qty  *PLEASE SELECT ONE - $0.00Member - $45.00Non Member - $55.00012345678910Additional Attendees (choose Type then QTY using the dropdown buttons below)    (Member $25 / Non Member $35) Once Qty is filled Enter Attendees in boxes belowPLEASE SELECT ONE - $0.00Member Each Additonal - $25.00Non Member Each Additional - $35.000123456789BOARD MEMBER / AHJ    SELECT DROP DOWN HERE PLEASE SELECT ONEBoard memberAHJ01234Primary Registrant  *FirstLastAdditonal Attendee #1FirstLastAdditional Attendee #2FirstLastAdditional Attendee #3FirstLastAdditional Attendee #4FirstLastAdditional Attendee #5FirstLastAdditional Attendee #6FirstLastAdditional Attendee #7FirstLastAdditional Attendee #8FirstLastAdditional Attendee #9FirstLastTotal\n	\n		Order Summary\n		\n			\n				Item\n				\n					Quantity\n					Qty\n				\n				Total\n			\n		\n		\n			\n				There are no products selected.\n			\n			Primary Registrant SELECT Dropbox below to choose Member $45 / Non Member $55 for  First Attendee then choose Qty  - PLEASE SELECT ONE0$0.00Primary Registrant SELECT Dropbox below to choose Member $45 / Non Member $55 for  First Attendee then choose Qty  - Member0$0.00Primary Registrant SELECT Dropbox below to choose Member $45 / Non Member $55 for  First Attendee then choose Qty  - Non Member0$0.00Additional Attendees (choose Type then QTY using the dropdown buttons below)    (Member $25 / Non Member $35) Once Qty is filled Enter Attendees in boxes below - PLEASE SELECT ONE0$0.00Additional Attendees (choose Type then QTY using the dropdown buttons below)    (Member $25 / Non Member $35) Once Qty is filled Enter Attendees in boxes below - Member Each Additonal0$0.00Additional Attendees (choose Type then QTY using the dropdown buttons below)    (Member $25 / Non Member $35) Once Qty is filled Enter Attendees in boxes below - Non Member Each Additional0$0.00BOARD MEMBER / AHJ    SELECT DROP DOWN HERE  - PLEASE SELECT ONE0$0.00BOARD MEMBER / AHJ    SELECT DROP DOWN HERE  - Board member0$0.00BOARD MEMBER / AHJ    SELECT DROP DOWN HERE  - AHJ0$0.00Total$0.00		\n	\n\n$0.00Process Payment Here!      Where Amount is Zero You Will Not be Charged! *CardName on CardComments or QuestionsSubmit
URL:https://laafaa.org/event/laafaa-2027-winter-meeting-2/
LOCATION:LASFM Office\, 8181 Independence Blvd\, Baton Rouge\, LA\, 70806\, United States
ORGANIZER;CN="Louisiana Automatic Fire Alarm Association":MAILTO:president@laafaa.org
END:VEVENT
BEGIN:VEVENT
DTSTART;TZID=America/Chicago:20270326T080000
DTEND;TZID=America/Chicago:20270326T170000
DTSTAMP:20260423T065624
CREATED:20260323T155557Z
LAST-MODIFIED:20260402T174857Z
UID:8287-1806048000-1806080400@laafaa.org
SUMMARY:LAAFAA 2027 Spring Meeting
DESCRIPTION:Please enable JavaScript in your browser to complete this form.PLEASE SELECT MEETING YOU WISH TO REGISTER FOR USING DROP BOX BELOW *Please Select Meeting Option Here2026 Summer Meeting Lafayette\, June 19\, 20262026 Fall Meeting Baton Rouge September 18\, 20262027 Winter Meeting Baton Rouge January 22\, 20272027 Spring Meeting Baton Rouge March 26. 2027Please select ONLY ONEMeeting Registration Bill To Person  *FirstLastMeeting Registration Bill To Person Address: *Address Line 1City--- Select state ---AlabamaAlaskaArizonaArkansasCaliforniaColoradoConnecticutDelawareDistrict of ColumbiaFloridaGeorgiaHawaiiIdahoIllinoisIndianaIowaKansasKentuckyLouisianaMaineMarylandMassachusettsMichiganMinnesotaMississippiMissouriMontanaNebraskaNevadaNew HampshireNew JerseyNew MexicoNew YorkNorth CarolinaNorth DakotaOhioOklahomaOregonPennsylvaniaRhode IslandSouth CarolinaSouth DakotaTennesseeTexasUtahVermontVirginiaWashingtonWest VirginiaWisconsinWyomingStateZip CodePhone Number of Registering Person *Email Address for Meeting Registration and Credit Card Payment Receipt *EmailConfirm EmailDate / Time of Registration *DateTimeRegistering for: *Association Meeting as a Member (Enter Member Number Below)Association Meeting as a Non MemberEnter Company or Individual Membership Name Here    (NON MEMBER  TYPE NON MEMBER) If you are an AHJ Enter name of your Organization  *Primary Registrant SELECT Dropbox below to choose Member $45 / Non Member $55 for  First Attendee then choose Qty  *PLEASE SELECT ONE - $0.00Member - $45.00Non Member - $55.00012345678910Additional Attendees (choose Type then QTY using the dropdown buttons below)    (Member $25 / Non Member $35) Once Qty is filled Enter Attendees in boxes belowPLEASE SELECT ONE - $0.00Member Each Additonal - $25.00Non Member Each Additional - $35.000123456789BOARD MEMBER / AHJ    SELECT DROP DOWN HERE PLEASE SELECT ONEBoard memberAHJ01234Primary Registrant  *FirstLastAdditonal Attendee #1FirstLastAdditional Attendee #2FirstLastAdditional Attendee #3FirstLastAdditional Attendee #4FirstLastAdditional Attendee #5FirstLastAdditional Attendee #6FirstLastAdditional Attendee #7FirstLastAdditional Attendee #8FirstLastAdditional Attendee #9FirstLastTotal\n	\n		Order Summary\n		\n			\n				Item\n				\n					Quantity\n					Qty\n				\n				Total\n			\n		\n		\n			\n				There are no products selected.\n			\n			Primary Registrant SELECT Dropbox below to choose Member $45 / Non Member $55 for  First Attendee then choose Qty  - PLEASE SELECT ONE0$0.00Primary Registrant SELECT Dropbox below to choose Member $45 / Non Member $55 for  First Attendee then choose Qty  - Member0$0.00Primary Registrant SELECT Dropbox below to choose Member $45 / Non Member $55 for  First Attendee then choose Qty  - Non Member0$0.00Additional Attendees (choose Type then QTY using the dropdown buttons below)    (Member $25 / Non Member $35) Once Qty is filled Enter Attendees in boxes below - PLEASE SELECT ONE0$0.00Additional Attendees (choose Type then QTY using the dropdown buttons below)    (Member $25 / Non Member $35) Once Qty is filled Enter Attendees in boxes below - Member Each Additonal0$0.00Additional Attendees (choose Type then QTY using the dropdown buttons below)    (Member $25 / Non Member $35) Once Qty is filled Enter Attendees in boxes below - Non Member Each Additional0$0.00BOARD MEMBER / AHJ    SELECT DROP DOWN HERE  - PLEASE SELECT ONE0$0.00BOARD MEMBER / AHJ    SELECT DROP DOWN HERE  - Board member0$0.00BOARD MEMBER / AHJ    SELECT DROP DOWN HERE  - AHJ0$0.00Total$0.00		\n	\n\n$0.00Process Payment Here!      Where Amount is Zero You Will Not be Charged! *CardName on CardComments or QuestionsSubmit
URL:https://laafaa.org/event/laafaa-2027-spring-meeting/
LOCATION:LASFM Office\, 8181 Independence Blvd\, Baton Rouge\, LA\, 70806\, United States
ORGANIZER;CN="Louisiana Automatic Fire Alarm Association":MAILTO:president@laafaa.org
END:VEVENT
END:VCALENDAR